BEGIN:VCALENDAR
VERSION:2.0
PRODID:-//Tanner Gun Show - ECPv6.15.14//NONSGML v1.0//EN
CALSCALE:GREGORIAN
METHOD:PUBLISH
X-WR-CALNAME:Tanner Gun Show
X-ORIGINAL-URL:https://tannergunshow.com
X-WR-CALDESC:Events for Tanner Gun Show
REFRESH-INTERVAL;VALUE=DURATION:PT1H
X-Robots-Tag:noindex
X-PUBLISHED-TTL:PT1H
BEGIN:VTIMEZONE
TZID:America/Denver
BEGIN:DAYLIGHT
TZOFFSETFROM:-0700
TZOFFSETTO:-0600
TZNAME:MDT
DTSTART:20250309T090000
END:DAYLIGHT
BEGIN:STANDARD
TZOFFSETFROM:-0600
TZOFFSETTO:-0700
TZNAME:MST
DTSTART:20251102T080000
END:STANDARD
BEGIN:DAYLIGHT
TZOFFSETFROM:-0700
TZOFFSETTO:-0600
TZNAME:MDT
DTSTART:20260308T090000
END:DAYLIGHT
BEGIN:STANDARD
TZOFFSETFROM:-0600
TZOFFSETTO:-0700
TZNAME:MST
DTSTART:20261101T080000
END:STANDARD
BEGIN:DAYLIGHT
TZOFFSETFROM:-0700
TZOFFSETTO:-0600
TZNAME:MDT
DTSTART:20270314T090000
END:DAYLIGHT
BEGIN:STANDARD
TZOFFSETFROM:-0600
TZOFFSETTO:-0700
TZNAME:MST
DTSTART:20271107T080000
END:STANDARD
BEGIN:DAYLIGHT
TZOFFSETFROM:-0700
TZOFFSETTO:-0600
TZNAME:MDT
DTSTART:20280312T090000
END:DAYLIGHT
BEGIN:STANDARD
TZOFFSETFROM:-0600
TZOFFSETTO:-0700
TZNAME:MST
DTSTART:20281105T080000
END:STANDARD
END:VTIMEZONE
BEGIN:VEVENT
DTSTART;TZID=America/Denver:20261219T090000
DTEND;TZID=America/Denver:20261220T160000
DTSTAMP:20260420T053152
CREATED:20260414T152742Z
LAST-MODIFIED:20260414T152742Z
UID:10000143-1797670800-1797782400@tannergunshow.com
SUMMARY:Aurora Gun Show - Dec 19 - 20 2026
DESCRIPTION:$15 FOR TWO DAYS OF THE DENVER GUN SHOW: SAT 9-5 + SUN 10-4 \nNo refunds on any ticket purchases\, for any reason\, including weather\, and no pets are allowed at the show. \nArapahoe County Fairgrounds\n25690 E. Quincy Ave Aurora\, CO 80016 \nThe Denver show is our largest show. We’ve been around since 1964 and this show is four times as large as any other gun show in Colorado. \nNot only is our Denver show the largest gun show in Colorado\, but we also have a much higher percentage of guns\, knives\, and related items than any of those other shows. \nAt our Denver show\, you’ll find hundreds of tables with all types of guns\, knives\, ammunition\, survival gear/food\, and related hunting and fishing accessories including\, holsters\, western wear\, gun safes\, books\, war relics\, and other collectibles. We attract vendors from throughout the Western half of the U.S.\, so you are guaranteed the largest selection of old and new firearms in the State.
URL:https://tannergunshow.com/event/aurora-gun-show-dec-19-20-2026/
LOCATION:Arapahoe County Fairgrounds\, 25690 East Quincy Avenue\, Aurora\, CO\, 80016\, United States
ATTACH;FMTTYPE=image/png:https://tannergunshow.com/wp-content/uploads/2026/04/2.png
GEO:39.6339352;-104.6921712
X-APPLE-STRUCTURED-LOCATION;VALUE=URI;X-ADDRESS=Arapahoe County Fairgrounds 25690 East Quincy Avenue Aurora CO 80016 United States;X-APPLE-RADIUS=500;X-TITLE=25690 East Quincy Avenue:geo:-104.6921712,39.6339352
END:VEVENT
BEGIN:VEVENT
DTSTART;TZID=America/Denver:20270109T090000
DTEND;TZID=America/Denver:20270110T160000
DTSTAMP:20260420T053152
CREATED:20260414T154328Z
LAST-MODIFIED:20260414T154328Z
UID:10000144-1799485200-1799596800@tannergunshow.com
SUMMARY:Colorado Springs Gun Show – Jan 9 - 10 2027
DESCRIPTION:$15 FOR TWO DAYS OF THE COLORADO SPRINGS GUN SHOW: SAT 9-5 + SUN 10-4 \nNo refunds on any ticket purchases\, for any reason\, including weather\, and sorry\,  no pets allowed at the show. \nNorris Penrose Event Center\n1045 Lower Gold Camp Rd. Colorado Springs\, CO 80905 \nWe’ve been around since 1964 and we’ve now expanded into Colorado Springs in the newly remodeled\, including a beautiful concrete floor\, Norris Penrose Event Center. \nAt our Colorado Springs gun show\, you’ll find hundreds of vendor tables with all types of guns\, knives\, ammunition\, survival gear/food\, and related hunting and fishing accessories including\, holsters\, western wear\, gun safes\, books\, and war relics\, and other collectibles. You are guaranteed the largest selection of old and new firearms in the state because we attract vendors from throughout the Western half of the U.S.
URL:https://tannergunshow.com/event/colorado-springs-gun-show-jan-9-10-2027/
LOCATION:Norris Penrose\, 1045 Lower Gold Camp Rd\, Colorado Springs\, CO\, 80305\, United States
ATTACH;FMTTYPE=image/png:https://tannergunshow.com/wp-content/uploads/2026/04/3.png
GEO:38.8229807;-104.8484216
X-APPLE-STRUCTURED-LOCATION;VALUE=URI;X-ADDRESS=Norris Penrose 1045 Lower Gold Camp Rd Colorado Springs CO 80305 United States;X-APPLE-RADIUS=500;X-TITLE=1045 Lower Gold Camp Rd:geo:-104.8484216,38.8229807
END:VEVENT
END:VCALENDAR